BEGIN:VCALENDAR
VERSION:2.0
PRODID:-//Date iCal//NONSGML kigkonsult.se iCalcreator 2.20.2//
METHOD:PUBLISH
X-WR-CALNAME;VALUE=TEXT:Axenda de Galica Aberta
BEGIN:VTIMEZONE
TZID:Europe/Madrid
BEGIN:STANDARD
DTSTART:20241027T030000
TZOFFSETFROM:+0200
TZOFFSETTO:+0100
TZNAME:CET
END:STANDARD
BEGIN:DAYLIGHT
DTSTART:20250330T020000
TZOFFSETFROM:+0100
TZOFFSETTO:+0200
TZNAME:CEST
END:DAYLIGHT
END:VTIMEZONE
BEGIN:VEVENT
UID:calendar.50603.field_inicio.0@emigracion.xunta.gal
DTSTAMP:20260420T000042Z
CREATED:20250107T104715Z
DESCRIPTION:Paella de verano en el Centro Gallego Mar del Plata\n\nhttps://
 emigracion.xunta.gal/es/actualidad/agenda/paella-verano-centro-gallego-mar
 -del-plata
DTSTART;TZID=Europe/Madrid:20250111T213000
DTEND;TZID=Europe/Madrid:20250111T213000
LAST-MODIFIED:20250107T105011Z
SUMMARY:Paella de verano en el Centro Gallego Mar del Plata
URL;TYPE=URI:https://emigracion.xunta.gal/es/actualidad/agenda/paella-veran
 o-centro-gallego-mar-del-plata
END:VEVENT
END:VCALENDAR
