BEGIN:VCALENDAR
VERSION:2.0
PRODID:-//Date iCal//NONSGML kigkonsult.se iCalcreator 2.20.2//
METHOD:PUBLISH
X-WR-CALNAME;VALUE=TEXT:Axenda de Galica Aberta
BEGIN:VTIMEZONE
TZID:Europe/Madrid
BEGIN:STANDARD
DTSTART:20241027T030000
TZOFFSETFROM:+0200
TZOFFSETTO:+0100
TZNAME:CET
END:STANDARD
BEGIN:DAYLIGHT
DTSTART:20240331T020000
TZOFFSETFROM:+0100
TZOFFSETTO:+0200
TZNAME:CEST
END:DAYLIGHT
END:VTIMEZONE
BEGIN:VEVENT
UID:calendar.49597.field_inicio.0@emigracion.xunta.gal
DTSTAMP:20260419T160406Z
CREATED:20240607T060119Z
DESCRIPTION:Ciclo: Gallegos de Tierra adentro – 'Homenaje al Viejo Pancho'\
 , en Montevideo\n\nhttps://emigracion.xunta.gal/es/actualidad/agenda/ciclo
 -gallegos-tierra-adentro-homenaje-al-viejo-pancho-montevideo
DTSTART;TZID=Europe/Madrid:20240613T190000
DTEND;TZID=Europe/Madrid:20240613T190000
LAST-MODIFIED:20240607T124210Z
SUMMARY:Ciclo: Gallegos de Tierra adentro – 'Homenaje al Viejo Pancho'\, en
  Montevideo
URL;TYPE=URI:https://emigracion.xunta.gal/es/actualidad/agenda/ciclo-galleg
 os-tierra-adentro-homenaje-al-viejo-pancho-montevideo
END:VEVENT
END:VCALENDAR
