BEGIN:VCALENDAR
VERSION:2.0
PRODID:-//Date iCal//NONSGML kigkonsult.se iCalcreator 2.20.2//
METHOD:PUBLISH
X-WR-CALNAME;VALUE=TEXT:Axenda de Galica Aberta
BEGIN:VTIMEZONE
TZID:Europe/Madrid
BEGIN:STANDARD
DTSTART:20231029T030000
TZOFFSETFROM:+0200
TZOFFSETTO:+0100
TZNAME:CET
END:STANDARD
BEGIN:DAYLIGHT
DTSTART:20230326T020000
TZOFFSETFROM:+0100
TZOFFSETTO:+0200
RDATE:20240331T020000
TZNAME:CEST
END:DAYLIGHT
END:VTIMEZONE
BEGIN:VEVENT
UID:calendar.47729.field_inicio.0@emigracion.xunta.gal
DTSTAMP:20260420T111554Z
CREATED:20231013T095323Z
DESCRIPTION:Información tributaria para gallegos/as residentes en el exteri
 or\, en Zürich\n\nhttps://emigracion.xunta.gal/es/actualidad/agenda/inform
 acion-tributaria-gallegosas-residentes-exterior-zurich
DTSTART;TZID=Europe/Madrid:20231022T160000
DTEND;TZID=Europe/Madrid:20231022T160000
LAST-MODIFIED:20231013T122508Z
SUMMARY:Información tributaria para gallegos/as residentes en el exterior\,
  en Zürich
URL;TYPE=URI:https://emigracion.xunta.gal/es/actualidad/agenda/informacion-
 tributaria-gallegosas-residentes-exterior-zurich
END:VEVENT
END:VCALENDAR
