BEGIN:VCALENDAR
VERSION:2.0
PRODID:-//Date iCal//NONSGML kigkonsult.se iCalcreator 2.20.2//
METHOD:PUBLISH
X-WR-CALNAME;VALUE=TEXT:Axenda de Galica Aberta
BEGIN:VTIMEZONE
TZID:Europe/Madrid
BEGIN:STANDARD
DTSTART:20221030T030000
TZOFFSETFROM:+0200
TZOFFSETTO:+0100
TZNAME:CET
END:STANDARD
BEGIN:DAYLIGHT
DTSTART:20220327T020000
TZOFFSETFROM:+0100
TZOFFSETTO:+0200
TZNAME:CEST
END:DAYLIGHT
END:VTIMEZONE
BEGIN:VEVENT
UID:calendar.44316.field_inicio.0@emigracion.xunta.gal
DTSTAMP:20260420T191903Z
CREATED:20220614T113114Z
DESCRIPTION:Entrega de diplomas acreditativos de la concesión de las Becas 
 Excelencia Juventud Exterior 2021-2022\n\nhttps://emigracion.xunta.gal/es/
 actualidad/agenda/entrega-diplomas-acreditativos-la-concesion-las-becas-ex
 celencia-juventud-exteri-2
DTSTART;TZID=Europe/Madrid:20220617T120000
DTEND;TZID=Europe/Madrid:20220617T120000
LAST-MODIFIED:20220616T055152Z
SUMMARY:Entrega de diplomas acreditativos de la concesión de las Becas Exce
 lencia Juventud Exterior 2021-2022
URL;TYPE=URI:https://emigracion.xunta.gal/es/actualidad/agenda/entrega-dipl
 omas-acreditativos-la-concesion-las-becas-excelencia-juventud-exteri-2
END:VEVENT
END:VCALENDAR
