BEGIN:VCALENDAR
VERSION:2.0
PRODID:-//Date iCal//NONSGML kigkonsult.se iCalcreator 2.20.2//
METHOD:PUBLISH
X-WR-CALNAME;VALUE=TEXT:Axenda de Galica Aberta
BEGIN:VTIMEZONE
TZID:Europe/Madrid
BEGIN:STANDARD
DTSTART:20211031T030000
TZOFFSETFROM:+0200
TZOFFSETTO:+0100
RDATE:20221030T030000
TZNAME:CET
END:STANDARD
BEGIN:DAYLIGHT
DTSTART:20220327T020000
TZOFFSETFROM:+0100
TZOFFSETTO:+0200
TZNAME:CEST
END:DAYLIGHT
END:VTIMEZONE
BEGIN:VEVENT
UID:calendar.43965.field_inicio.0@emigracion.xunta.gal
DTSTAMP:20260420T003521Z
CREATED:20220426T060203Z
DESCRIPTION:Conferencia de Miro Villar: 'Florencio Delgado Gurriarán\, o po
 eta galeguista no exilio mexicano' y presentación del nº 24 de 'Madrygal. 
 Revista de Estudios Gallegos'\, en Madrid\n\nhttps://emigracion.xunta.gal/
 es/actualidad/agenda/conferencia-miro-villar-florencio-delgado-gurriaran-o
 -poeta-galeguista-no-exilio
DTSTART;TZID=Europe/Madrid:20220504T193000
DTEND;TZID=Europe/Madrid:20220504T193000
LAST-MODIFIED:20220426T105445Z
SUMMARY:Conferencia de Miro Villar: 'Florencio Delgado Gurriarán\, o poeta 
 galeguista no exilio mexicano' y presentación del nº 24 de 'Madrygal. Revi
 sta de Estudios Gallegos'\, en Madrid
URL;TYPE=URI:https://emigracion.xunta.gal/es/actualidad/agenda/conferencia-
 miro-villar-florencio-delgado-gurriaran-o-poeta-galeguista-no-exilio
END:VEVENT
END:VCALENDAR
