BEGIN:VCALENDAR
VERSION:2.0
PRODID:-//Date iCal//NONSGML kigkonsult.se iCalcreator 2.20.2//
METHOD:PUBLISH
X-WR-CALNAME;VALUE=TEXT:Axenda de Galica Aberta
BEGIN:VTIMEZONE
TZID:Europe/Madrid
BEGIN:STANDARD
DTSTART:20181028T030000
TZOFFSETFROM:+0200
TZOFFSETTO:+0100
TZNAME:CET
END:STANDARD
BEGIN:DAYLIGHT
DTSTART:20180325T020000
TZOFFSETFROM:+0100
TZOFFSETTO:+0200
RDATE:20190331T020000
TZNAME:CEST
END:DAYLIGHT
END:VTIMEZONE
BEGIN:VEVENT
UID:calendar.37195.field_inicio.0@emigracion.xunta.gal
DTSTAMP:20260419T160406Z
CREATED:20181010T064207Z
DESCRIPTION:Fiesta cultural del Pulpo 2018 del Centro Cultural 'Airiños da 
 Nosa Galicia' de Santa Coloma de Gramenet\n\nhttps://emigracion.xunta.gal/
 es/actualidad/agenda/fiesta-cultural-del-pulpo-2018-del-centro-cultural-ai
 rinos-nosa-galicia-santa
DTSTART;TZID=Europe/Madrid:20181019T200000
DTEND;TZID=Europe/Madrid:20181021T113000
LAST-MODIFIED:20190718T111624Z
SUMMARY:Fiesta cultural del Pulpo 2018 del Centro Cultural 'Airiños da Nosa
  Galicia' de Santa Coloma de Gramenet
URL;TYPE=URI:https://emigracion.xunta.gal/es/actualidad/agenda/fiesta-cultu
 ral-del-pulpo-2018-del-centro-cultural-airinos-nosa-galicia-santa
END:VEVENT
END:VCALENDAR
