BEGIN:VCALENDAR
VERSION:2.0
PRODID:-//Date iCal//NONSGML kigkonsult.se iCalcreator 2.20.2//
METHOD:PUBLISH
X-WR-CALNAME;VALUE=TEXT:Axenda de Galica Aberta
BEGIN:VTIMEZONE
TZID:Europe/Madrid
BEGIN:STANDARD
DTSTART:20171029T030000
TZOFFSETFROM:+0200
TZOFFSETTO:+0100
RDATE:20181028T030000
TZNAME:CET
END:STANDARD
BEGIN:DAYLIGHT
DTSTART:20180325T020000
TZOFFSETFROM:+0100
TZOFFSETTO:+0200
TZNAME:CEST
END:DAYLIGHT
END:VTIMEZONE
BEGIN:VEVENT
UID:calendar.36240.field_inicio.0@emigracion.xunta.gal
DTSTAMP:20260419T160407Z
CREATED:20180425T065954Z
DESCRIPTION:Festa Galega - XXXV Aniversario del Centro Cultural 'Airiños da
  Nosa Galicia' de Sta. Coloma de Gramenet\n\nhttps://emigracion.xunta.gal/
 es/actualidad/agenda/festa-galega-xxxv-aniversario-del-centro-cultural-air
 inos-nosa-galicia-sta-coloma
DTSTART;TZID=Europe/Madrid:20180504T210000
DTEND;TZID=Europe/Madrid:20180506T111500
LAST-MODIFIED:20190718T111358Z
SUMMARY:Festa Galega - XXXV Aniversario del Centro Cultural 'Airiños da Nos
 a Galicia' de Sta. Coloma de Gramenet
URL;TYPE=URI:https://emigracion.xunta.gal/es/actualidad/agenda/festa-galega
 -xxxv-aniversario-del-centro-cultural-airinos-nosa-galicia-sta-coloma
END:VEVENT
END:VCALENDAR
