BEGIN:VCALENDAR
VERSION:2.0
PRODID:-//Date iCal//NONSGML kigkonsult.se iCalcreator 2.20.2//
METHOD:PUBLISH
X-WR-CALNAME;VALUE=TEXT:Axenda de Galica Aberta
BEGIN:VTIMEZONE
TZID:Europe/Madrid
BEGIN:STANDARD
DTSTART:20171029T030000
TZOFFSETFROM:+0200
TZOFFSETTO:+0100
TZNAME:CET
END:STANDARD
BEGIN:DAYLIGHT
DTSTART:20180325T020000
TZOFFSETFROM:+0100
TZOFFSETTO:+0200
TZNAME:CEST
END:DAYLIGHT
END:VTIMEZONE
BEGIN:VEVENT
UID:calendar.35638.field_inicio.0@emigracion.xunta.gal
DTSTAMP:20260419T160412Z
CREATED:20171215T114556Z
DESCRIPTION:Fin de Año 2017 del Centro Gallego de Montreal\n\nhttps://emigr
 acion.xunta.gal/es/actualidad/agenda/fin-ano-2017-del-centro-gallego-montr
 eal
DTSTART;TZID=Europe/Madrid:20171231T200000
DTEND;TZID=Europe/Madrid:20171231T200000
LAST-MODIFIED:20190718T110546Z
SUMMARY:Fin de Año 2017 del Centro Gallego de Montreal
URL;TYPE=URI:https://emigracion.xunta.gal/es/actualidad/agenda/fin-ano-2017
 -del-centro-gallego-montreal
END:VEVENT
END:VCALENDAR
