BEGIN:VCALENDAR
VERSION:2.0
PRODID:-//Date iCal//NONSGML kigkonsult.se iCalcreator 2.20.2//
METHOD:PUBLISH
X-WR-CALNAME;VALUE=TEXT:Axenda de Galica Aberta
BEGIN:VTIMEZONE
TZID:Europe/Madrid
BEGIN:STANDARD
DTSTART:20161030T030000
TZOFFSETFROM:+0200
TZOFFSETTO:+0100
RDATE:20171029T030000
TZNAME:CET
END:STANDARD
BEGIN:DAYLIGHT
DTSTART:20170326T020000
TZOFFSETFROM:+0100
TZOFFSETTO:+0200
TZNAME:CEST
END:DAYLIGHT
END:VTIMEZONE
BEGIN:VEVENT
UID:calendar.34164.field_inicio.0@emigracion.xunta.gal
DTSTAMP:20260420T000043Z
CREATED:20170327T081553Z
DESCRIPTION:Sabado de Gloria\, en el Centro Gallego de Mar del Plata\n\nhtt
 ps://emigracion.xunta.gal/es/actualidad/agenda/sabado-gloria-centro-galleg
 o-mar-del-plata
DTSTART;TZID=Europe/Madrid:20170415T210000
DTEND;TZID=Europe/Madrid:20170415T210000
LAST-MODIFIED:20190718T110204Z
SUMMARY:Sabado de Gloria\, en el Centro Gallego de Mar del Plata
URL;TYPE=URI:https://emigracion.xunta.gal/es/actualidad/agenda/sabado-glori
 a-centro-gallego-mar-del-plata
END:VEVENT
END:VCALENDAR
