BEGIN:VCALENDAR
VERSION:2.0
PRODID:-//Date iCal//NONSGML kigkonsult.se iCalcreator 2.20.2//
METHOD:PUBLISH
X-WR-CALNAME;VALUE=TEXT:Axenda de Galica Aberta
BEGIN:VTIMEZONE
TZID:Europe/Madrid
BEGIN:STANDARD
DTSTART:20161030T030000
TZOFFSETFROM:+0200
TZOFFSETTO:+0100
TZNAME:CET
END:STANDARD
BEGIN:DAYLIGHT
DTSTART:20170326T020000
TZOFFSETFROM:+0100
TZOFFSETTO:+0200
TZNAME:CEST
END:DAYLIGHT
END:VTIMEZONE
BEGIN:VEVENT
UID:calendar.32866.field_inicio.0@emigracion.xunta.gal
DTSTAMP:20260419T160410Z
CREATED:20161031T124032Z
DESCRIPTION:Feria IamExpat 2016\, en La Haya\n\nhttps://emigracion.xunta.ga
 l/es/actualidad/agenda/feria-iamexpat-2016-la-haya
DTSTART;VALUE=DATE:20161105
DTEND;VALUE=DATE:20161106
LAST-MODIFIED:20190718T105846Z
SUMMARY:Feria IamExpat 2016\, en La Haya
URL;TYPE=URI:https://emigracion.xunta.gal/es/actualidad/agenda/feria-iamexp
 at-2016-la-haya
END:VEVENT
END:VCALENDAR
