BEGIN:VCALENDAR
VERSION:2.0
PRODID:-//Date iCal//NONSGML kigkonsult.se iCalcreator 2.20.2//
METHOD:PUBLISH
X-WR-CALNAME;VALUE=TEXT:Axenda de Galica Aberta
BEGIN:VTIMEZONE
TZID:Europe/Madrid
BEGIN:STANDARD
DTSTART:20151025T030000
TZOFFSETFROM:+0200
TZOFFSETTO:+0100
TZNAME:CET
END:STANDARD
BEGIN:DAYLIGHT
DTSTART:20160327T020000
TZOFFSETFROM:+0100
TZOFFSETTO:+0200
TZNAME:CEST
END:DAYLIGHT
END:VTIMEZONE
BEGIN:VEVENT
UID:calendar.30638.field_inicio.0@emigracion.xunta.gal
DTSTAMP:20260421T231528Z
CREATED:20160115T085238Z
DESCRIPTION:Torneo de buraco\, en el Centro Gallego de Maracaibo\n\nhttps:/
 /emigracion.xunta.gal/es/actualidad/agenda/torneo-buraco-centro-gallego-ma
 racaibo
DTSTART;VALUE=DATE:20160131
DTEND;VALUE=DATE:20160201
LAST-MODIFIED:20190718T105346Z
SUMMARY:Torneo de buraco\, en el Centro Gallego de Maracaibo
URL;TYPE=URI:https://emigracion.xunta.gal/es/actualidad/agenda/torneo-burac
 o-centro-gallego-maracaibo
END:VEVENT
END:VCALENDAR
