BEGIN:VCALENDAR
VERSION:2.0
PRODID:-//Date iCal//NONSGML kigkonsult.se iCalcreator 2.20.2//
METHOD:PUBLISH
X-WR-CALNAME;VALUE=TEXT:Axenda de Galica Aberta
BEGIN:VTIMEZONE
TZID:Europe/Madrid
BEGIN:STANDARD
DTSTART:20131027T030000
TZOFFSETFROM:+0200
TZOFFSETTO:+0100
TZNAME:CET
END:STANDARD
BEGIN:DAYLIGHT
DTSTART:20140330T020000
TZOFFSETFROM:+0100
TZOFFSETTO:+0200
TZNAME:CEST
END:DAYLIGHT
END:VTIMEZONE
BEGIN:VEVENT
UID:calendar.22159.field_inicio.0@emigracion.xunta.gal
DTSTAMP:20260421T221100Z
CREATED:20140217T085444Z
DESCRIPTION:Tramitación de la Tarjeta Galicia Saúde Exterior en la Hermanda
 d Gallega de Valencia\n\nhttps://emigracion.xunta.gal/es/actualidad/agenda
 /tramitacion-la-tarjeta-galicia-saude-exterior-la-hermandad-gallega-valenc
 ia
DTSTART;VALUE=DATE:20140218
DTEND;VALUE=DATE:20140219
LAST-MODIFIED:20190718T103634Z
SUMMARY:Tramitación de la Tarjeta Galicia Saúde Exterior en la Hermandad Ga
 llega de Valencia
URL;TYPE=URI:https://emigracion.xunta.gal/es/actualidad/agenda/tramitacion-
 la-tarjeta-galicia-saude-exterior-la-hermandad-gallega-valencia
END:VEVENT
END:VCALENDAR
