BEGIN:VCALENDAR
VERSION:2.0
PRODID:-//Date iCal//NONSGML kigkonsult.se iCalcreator 2.20.2//
METHOD:PUBLISH
X-WR-CALNAME;VALUE=TEXT:Axenda de Galica Aberta
BEGIN:VTIMEZONE
TZID:Europe/Madrid
BEGIN:STANDARD
DTSTART:20121028T030000
TZOFFSETFROM:+0200
TZOFFSETTO:+0100
RDATE:20131027T030000
TZNAME:CET
END:STANDARD
BEGIN:DAYLIGHT
DTSTART:20130331T020000
TZOFFSETFROM:+0100
TZOFFSETTO:+0200
TZNAME:CEST
END:DAYLIGHT
END:VTIMEZONE
BEGIN:VEVENT
UID:calendar.20703.field_inicio.0@emigracion.xunta.gal
DTSTAMP:20260420T000045Z
CREATED:20130408T091204Z
DESCRIPTION:Gran fiesta española en el Centro Gallego de Berna\n\nhttps://e
 migracion.xunta.gal/es/actualidad/agenda/gran-fiesta-espanola-centro-galle
 go-berna
DTSTART;VALUE=DATE:20130428
DTEND;VALUE=DATE:20130429
LAST-MODIFIED:20190718T104029Z
SUMMARY:Gran fiesta española en el Centro Gallego de Berna
URL;TYPE=URI:https://emigracion.xunta.gal/es/actualidad/agenda/gran-fiesta-
 espanola-centro-gallego-berna
END:VEVENT
END:VCALENDAR
