BEGIN:VCALENDAR
VERSION:2.0
PRODID:-//Date iCal//NONSGML kigkonsult.se iCalcreator 2.20.2//
METHOD:PUBLISH
X-WR-CALNAME;VALUE=TEXT:Axenda de Galica Aberta
BEGIN:VTIMEZONE
TZID:Europe/Madrid
BEGIN:STANDARD
DTSTART:20131027T030000
TZOFFSETFROM:+0200
TZOFFSETTO:+0100
TZNAME:CET
END:STANDARD
BEGIN:DAYLIGHT
DTSTART:20130331T020000
TZOFFSETFROM:+0100
TZOFFSETTO:+0200
TZNAME:CEST
END:DAYLIGHT
END:VTIMEZONE
BEGIN:VEVENT
UID:calendar.20281.field_inicio.0@emigracion.xunta.gal
DTSTAMP:20260420T003520Z
CREATED:20130204T082159Z
DESCRIPTION:XIII Certamen de Poesía 'Anduriña Voandeira' de la Irmandade de
  Centros Galegos en Euskadi\n\nhttps://emigracion.xunta.gal/es/actualidad/
 agenda/xiii-certamen-poesia-andurina-voandeira-la-irmandade-centros-galego
 s-euskadi
DTSTART;VALUE=DATE:20130531
DTEND;VALUE=DATE:20130601
LAST-MODIFIED:20190718T103901Z
SUMMARY:XIII Certamen de Poesía 'Anduriña Voandeira' de la Irmandade de Cen
 tros Galegos en Euskadi
URL;TYPE=URI:https://emigracion.xunta.gal/es/actualidad/agenda/xiii-certame
 n-poesia-andurina-voandeira-la-irmandade-centros-galegos-euskadi
END:VEVENT
END:VCALENDAR
