BEGIN:VCALENDAR
VERSION:2.0
PRODID:-//Date iCal//NONSGML kigkonsult.se iCalcreator 2.20.2//
METHOD:PUBLISH
X-WR-CALNAME;VALUE=TEXT:Axenda de Galica Aberta
BEGIN:VTIMEZONE
TZID:Europe/Madrid
BEGIN:STANDARD
DTSTART:20121028T030000
TZOFFSETFROM:+0200
TZOFFSETTO:+0100
TZNAME:CET
END:STANDARD
BEGIN:DAYLIGHT
DTSTART:20120325T020000
TZOFFSETFROM:+0100
TZOFFSETTO:+0200
RDATE:20130331T020000
TZNAME:CEST
END:DAYLIGHT
END:VTIMEZONE
BEGIN:VEVENT
UID:calendar.18482.field_inicio.0@emigracion.xunta.gal
DTSTAMP:20260419T160409Z
CREATED:20120917T172020Z
DESCRIPTION:Camino de Santiago en Buenos Aires\n\nhttps://emigracion.xunta.
 gal/es/actualidad/agenda/camino-santiago-buenos-aires
DTSTART;VALUE=DATE:20120929
DTEND;VALUE=DATE:20120930
LAST-MODIFIED:20190718T102955Z
SUMMARY:Camino de Santiago en Buenos Aires
URL;TYPE=URI:https://emigracion.xunta.gal/es/actualidad/agenda/camino-santi
 ago-buenos-aires
END:VEVENT
END:VCALENDAR
