BEGIN:VCALENDAR
VERSION:2.0
PRODID:-//Date iCal//NONSGML kigkonsult.se iCalcreator 2.20.2//
METHOD:PUBLISH
X-WR-CALNAME;VALUE=TEXT:Axenda de Galica Aberta
BEGIN:VTIMEZONE
TZID:Europe/Madrid
BEGIN:STANDARD
DTSTART:20111030T030000
TZOFFSETFROM:+0200
TZOFFSETTO:+0100
RDATE:20121028T030000
TZNAME:CET
END:STANDARD
BEGIN:DAYLIGHT
DTSTART:20120325T020000
TZOFFSETFROM:+0100
TZOFFSETTO:+0200
TZNAME:CEST
END:DAYLIGHT
END:VTIMEZONE
BEGIN:VEVENT
UID:calendar.17369.field_inicio.0@emigracion.xunta.gal
DTSTAMP:20260420T003558Z
CREATED:20120427T090016Z
DESCRIPTION:Presentación de la Tarjeta Sanitaria Galicia Saúde Exterior en 
 los EE.UU.\n\nhttps://emigracion.xunta.gal/es/actualidad/agenda/presentaci
 on-la-tarjeta-sanitaria-galicia-saude-exterior-eeuu
DTSTART;VALUE=DATE:20120427
DTEND;VALUE=DATE:20120429
LAST-MODIFIED:20190718T110752Z
SUMMARY:Presentación de la Tarjeta Sanitaria Galicia Saúde Exterior en los 
 EE.UU.
URL;TYPE=URI:https://emigracion.xunta.gal/es/actualidad/agenda/presentacion
 -la-tarjeta-sanitaria-galicia-saude-exterior-eeuu
END:VEVENT
END:VCALENDAR
