BEGIN:VCALENDAR
VERSION:2.0
PRODID:-//Date iCal//NONSGML kigkonsult.se iCalcreator 2.20.2//
METHOD:PUBLISH
X-WR-CALNAME;VALUE=TEXT:Axenda de Galica Aberta
BEGIN:VTIMEZONE
TZID:Europe/Madrid
BEGIN:STANDARD
DTSTART:20111030T030000
TZOFFSETFROM:+0200
TZOFFSETTO:+0100
RDATE:20121028T030000
TZNAME:CET
END:STANDARD
BEGIN:DAYLIGHT
DTSTART:20120325T020000
TZOFFSETFROM:+0100
TZOFFSETTO:+0200
TZNAME:CEST
END:DAYLIGHT
END:VTIMEZONE
BEGIN:VEVENT
UID:calendar.17365.field_inicio.0@emigracion.xunta.gal
DTSTAMP:20260419T160410Z
CREATED:20120426T075845Z
DESCRIPTION:XXIX Aniversario del Centro Cultural Airiños da Nosa Galicia\n
 \nhttps://emigracion.xunta.gal/es/actualidad/agenda/xxix-aniversario-del-c
 entro-cultural-airinos-nosa-galicia
DTSTART;VALUE=DATE:20120504
DTEND;VALUE=DATE:20120507
LAST-MODIFIED:20190718T110756Z
SUMMARY:XXIX Aniversario del Centro Cultural Airiños da Nosa Galicia
URL;TYPE=URI:https://emigracion.xunta.gal/es/actualidad/agenda/xxix-anivers
 ario-del-centro-cultural-airinos-nosa-galicia
END:VEVENT
END:VCALENDAR
