BEGIN:VCALENDAR
VERSION:2.0
PRODID:-//Date iCal//NONSGML kigkonsult.se iCalcreator 2.20.2//
METHOD:PUBLISH
X-WR-CALNAME;VALUE=TEXT:Axenda de Galica Aberta
BEGIN:VTIMEZONE
TZID:Europe/Madrid
BEGIN:STANDARD
DTSTART:20251026T030000
TZOFFSETFROM:+0200
TZOFFSETTO:+0100
TZNAME:CET
END:STANDARD
BEGIN:DAYLIGHT
DTSTART:20250330T020000
TZOFFSETFROM:+0100
TZOFFSETTO:+0200
RDATE:20260329T020000
TZNAME:CEST
END:DAYLIGHT
END:VTIMEZONE
BEGIN:VEVENT
UID:calendar.52019.field_inicio.0@emigracion.xunta.gal
DTSTAMP:20260420T044657Z
CREATED:20251006T150329Z
DESCRIPTION:Obradoiro 'Entre o onírico e o lúdico'\, con Iván Mayor\, no Ce
 ntro Espanhol de Porto Alegre\n\nhttps://emigracion.xunta.gal/actualidade/
 axenda/obradoiro-entre-o-onirico-e-o-ludico-ivan-mayor-no-centro-espanhol-
 porto-alegre
DTSTART;TZID=Europe/Madrid:20251016T193000
DTEND;TZID=Europe/Madrid:20251016T193000
LAST-MODIFIED:20251006T150627Z
SUMMARY:Obradoiro 'Entre o onírico e o lúdico'\, con Iván Mayor\, no Centro
  Espanhol de Porto Alegre
URL;TYPE=URI:https://emigracion.xunta.gal/actualidade/axenda/obradoiro-entr
 e-o-onirico-e-o-ludico-ivan-mayor-no-centro-espanhol-porto-alegre
END:VEVENT
END:VCALENDAR
