BEGIN:VCALENDAR
VERSION:2.0
PRODID:-//Date iCal//NONSGML kigkonsult.se iCalcreator 2.20.2//
METHOD:PUBLISH
X-WR-CALNAME;VALUE=TEXT:Axenda de Galica Aberta
BEGIN:VTIMEZONE
TZID:Europe/Madrid
BEGIN:STANDARD
DTSTART:20251026T030000
TZOFFSETFROM:+0200
TZOFFSETTO:+0100
TZNAME:CET
END:STANDARD
BEGIN:DAYLIGHT
DTSTART:20250330T020000
TZOFFSETFROM:+0100
TZOFFSETTO:+0200
RDATE:20260329T020000
TZNAME:CEST
END:DAYLIGHT
END:VTIMEZONE
BEGIN:VEVENT
UID:calendar.52017.field_inicio.0@emigracion.xunta.gal
DTSTAMP:20260421T164713Z
CREATED:20251006T144823Z
DESCRIPTION:Banquete polo Día do Respecto á Diversidade Cultural na Asociac
 ión Tui-Salceda de Bos Aires\n\nhttps://emigracion.xunta.gal/actualidade/a
 xenda/banquete-polo-dia-respecto-diversidade-cultural-na-asociacion-tui-sa
 lceda-bos
DTSTART;TZID=Europe/Madrid:20251012T130000
DTEND;TZID=Europe/Madrid:20251012T130000
LAST-MODIFIED:20251006T145057Z
SUMMARY:Banquete polo Día do Respecto á Diversidade Cultural na Asociación 
 Tui-Salceda de Bos Aires
URL;TYPE=URI:https://emigracion.xunta.gal/actualidade/axenda/banquete-polo-
 dia-respecto-diversidade-cultural-na-asociacion-tui-salceda-bos
END:VEVENT
END:VCALENDAR
