BEGIN:VCALENDAR
VERSION:2.0
PRODID:-//Date iCal//NONSGML kigkonsult.se iCalcreator 2.20.2//
METHOD:PUBLISH
X-WR-CALNAME;VALUE=TEXT:Axenda de Galica Aberta
BEGIN:VTIMEZONE
TZID:Europe/Madrid
BEGIN:STANDARD
DTSTART:20251026T030000
TZOFFSETFROM:+0200
TZOFFSETTO:+0100
TZNAME:CET
END:STANDARD
BEGIN:DAYLIGHT
DTSTART:20250330T020000
TZOFFSETFROM:+0100
TZOFFSETTO:+0200
RDATE:20260329T020000
TZNAME:CEST
END:DAYLIGHT
END:VTIMEZONE
BEGIN:VEVENT
UID:calendar.51990.field_inicio.0@emigracion.xunta.gal
DTSTAMP:20260420T085933Z
CREATED:20250929T145650Z
DESCRIPTION:24º Festival Folclórico 'Alicantino de Adopción' coa presenza d
 o Centro Galego de Alicante\n\nhttps://emigracion.xunta.gal/actualidade/ax
 enda/24o-festival-folclorico-alicantino-adopcion-coa-presenza-centro-galeg
 o-alicante
DTSTART;TZID=Europe/Madrid:20251005T090000
DTEND;TZID=Europe/Madrid:20251005T090000
LAST-MODIFIED:20250929T150025Z
SUMMARY:24º Festival Folclórico 'Alicantino de Adopción' coa presenza do Ce
 ntro Galego de Alicante
URL;TYPE=URI:https://emigracion.xunta.gal/actualidade/axenda/24o-festival-f
 olclorico-alicantino-adopcion-coa-presenza-centro-galego-alicante
END:VEVENT
END:VCALENDAR
