BEGIN:VCALENDAR
VERSION:2.0
PRODID:-//Date iCal//NONSGML kigkonsult.se iCalcreator 2.20.2//
METHOD:PUBLISH
X-WR-CALNAME;VALUE=TEXT:Axenda de Galica Aberta
BEGIN:VTIMEZONE
TZID:Europe/Madrid
BEGIN:STANDARD
DTSTART:20251026T030000
TZOFFSETFROM:+0200
TZOFFSETTO:+0100
TZNAME:CET
END:STANDARD
BEGIN:DAYLIGHT
DTSTART:20250330T020000
TZOFFSETFROM:+0100
TZOFFSETTO:+0200
RDATE:20260329T020000
TZNAME:CEST
END:DAYLIGHT
END:VTIMEZONE
BEGIN:VEVENT
UID:calendar.51961.field_inicio.0@emigracion.xunta.gal
DTSTAMP:20260420T150932Z
CREATED:20250924T112236Z
DESCRIPTION:Concerto de Manoele de Felisa no Centro Galego de Castelló 'O A
 turuxo'\n\nhttps://emigracion.xunta.gal/actualidade/axenda/concerto-manoel
 e-felisa-no-centro-galego-castello-o-aturuxo
DTSTART;TZID=Europe/Madrid:20251004T193000
DTEND;TZID=Europe/Madrid:20251004T193000
LAST-MODIFIED:20250924T112529Z
SUMMARY:Concerto de Manoele de Felisa no Centro Galego de Castelló 'O Aturu
 xo'
URL;TYPE=URI:https://emigracion.xunta.gal/actualidade/axenda/concerto-manoe
 le-felisa-no-centro-galego-castello-o-aturuxo
END:VEVENT
END:VCALENDAR
