BEGIN:VCALENDAR
VERSION:2.0
PRODID:-//Date iCal//NONSGML kigkonsult.se iCalcreator 2.20.2//
METHOD:PUBLISH
X-WR-CALNAME;VALUE=TEXT:Axenda de Galica Aberta
BEGIN:VTIMEZONE
TZID:Europe/Madrid
BEGIN:STANDARD
DTSTART:20251026T030000
TZOFFSETFROM:+0200
TZOFFSETTO:+0100
TZNAME:CET
END:STANDARD
BEGIN:DAYLIGHT
DTSTART:20250330T020000
TZOFFSETFROM:+0100
TZOFFSETTO:+0200
RDATE:20260329T020000
TZNAME:CEST
END:DAYLIGHT
END:VTIMEZONE
BEGIN:VEVENT
UID:calendar.51957.field_inicio.0@emigracion.xunta.gal
DTSTAMP:20260420T095139Z
CREATED:20250924T103357Z
DESCRIPTION:Exposición de pintura 'Génese'\, de Miguel Augusto Brito\, no C
 entro Galego de Lisboa\n\nhttps://emigracion.xunta.gal/actualidade/axenda/
 exposicion-pintura-genese-miguel-augusto-brito-no-centro-galego-lisboa
DTSTART;TZID=Europe/Madrid:20250927T160000
DTEND;TZID=Europe/Madrid:20251002T200000
LAST-MODIFIED:20250924T103546Z
SUMMARY:Exposición de pintura 'Génese'\, de Miguel Augusto Brito\, no Centr
 o Galego de Lisboa
URL;TYPE=URI:https://emigracion.xunta.gal/actualidade/axenda/exposicion-pin
 tura-genese-miguel-augusto-brito-no-centro-galego-lisboa
END:VEVENT
END:VCALENDAR
