BEGIN:VCALENDAR
VERSION:2.0
PRODID:-//Date iCal//NONSGML kigkonsult.se iCalcreator 2.20.2//
METHOD:PUBLISH
X-WR-CALNAME;VALUE=TEXT:Axenda de Galica Aberta
BEGIN:VTIMEZONE
TZID:Europe/Madrid
BEGIN:STANDARD
DTSTART:20251026T030000
TZOFFSETFROM:+0200
TZOFFSETTO:+0100
TZNAME:CET
END:STANDARD
BEGIN:DAYLIGHT
DTSTART:20250330T020000
TZOFFSETFROM:+0100
TZOFFSETTO:+0200
RDATE:20260329T020000
TZNAME:CEST
END:DAYLIGHT
END:VTIMEZONE
BEGIN:VEVENT
UID:calendar.51925.field_inicio.0@emigracion.xunta.gal
DTSTAMP:20260422T054948Z
CREATED:20250917T120921Z
DESCRIPTION:Encontro coa colectividade española de Uruguai do Consulado Gen
 eral de España en Montevideo\n\nhttps://emigracion.xunta.gal/actualidade/a
 xenda/encontro-coa-colectividade-espanola-uruguai-consulado-general-espana
 -montevideo
DTSTART;TZID=Europe/Madrid:20250920T163000
DTEND;TZID=Europe/Madrid:20250920T163000
LAST-MODIFIED:20250917T121437Z
RDATE;VALUE=PERIOD;TZID=Europe/Madrid:20250921T163000/20250921T163000
RRULE:FREQ=DAILY;COUNT=1;INTERVAL=1;WKST=MO
SUMMARY:Encontro coa colectividade española de Uruguai do Consulado General
  de España en Montevideo
URL;TYPE=URI:https://emigracion.xunta.gal/actualidade/axenda/encontro-coa-c
 olectividade-espanola-uruguai-consulado-general-espana-montevideo
END:VEVENT
END:VCALENDAR
