BEGIN:VCALENDAR
VERSION:2.0
PRODID:-//Date iCal//NONSGML kigkonsult.se iCalcreator 2.20.2//
METHOD:PUBLISH
X-WR-CALNAME;VALUE=TEXT:Axenda de Galica Aberta
BEGIN:VTIMEZONE
TZID:Europe/Madrid
BEGIN:STANDARD
DTSTART:20251026T030000
TZOFFSETFROM:+0200
TZOFFSETTO:+0100
TZNAME:CET
END:STANDARD
BEGIN:DAYLIGHT
DTSTART:20250330T020000
TZOFFSETFROM:+0100
TZOFFSETTO:+0200
RDATE:20260329T020000
TZNAME:CEST
END:DAYLIGHT
END:VTIMEZONE
BEGIN:VEVENT
UID:calendar.51915.field_inicio.0@emigracion.xunta.gal
DTSTAMP:20260421T171242Z
CREATED:20250915T143630Z
DESCRIPTION:Celebración da festividade 'Virxe das Milagres' no Centro Cultu
 ral e Recreativo Alma Galega de Montevideo\n\nhttps://emigracion.xunta.gal
 /actualidade/axenda/celebracion-festividade-virxe-das-milagres-no-centro-c
 ultural-e-recreativo-alma
DTSTART;TZID=Europe/Madrid:20250921T130000
DTEND;TZID=Europe/Madrid:20250921T130000
LAST-MODIFIED:20250915T143909Z
SUMMARY:Celebración da festividade 'Virxe das Milagres' no Centro Cultural 
 e Recreativo Alma Galega de Montevideo
URL;TYPE=URI:https://emigracion.xunta.gal/actualidade/axenda/celebracion-fe
 stividade-virxe-das-milagres-no-centro-cultural-e-recreativo-alma
END:VEVENT
END:VCALENDAR
