BEGIN:VCALENDAR
VERSION:2.0
PRODID:-//Date iCal//NONSGML kigkonsult.se iCalcreator 2.20.2//
METHOD:PUBLISH
X-WR-CALNAME;VALUE=TEXT:Axenda de Galica Aberta
BEGIN:VTIMEZONE
TZID:Europe/Madrid
BEGIN:STANDARD
DTSTART:20251026T030000
TZOFFSETFROM:+0200
TZOFFSETTO:+0100
TZNAME:CET
END:STANDARD
BEGIN:DAYLIGHT
DTSTART:20250330T020000
TZOFFSETFROM:+0100
TZOFFSETTO:+0200
RDATE:20260329T020000
TZNAME:CEST
END:DAYLIGHT
END:VTIMEZONE
BEGIN:VEVENT
UID:calendar.51892.field_inicio.0@emigracion.xunta.gal
DTSTAMP:20260421T171240Z
CREATED:20250910T151435Z
DESCRIPTION:III 'Letters from Galicia' no 'London Spanish Film Festival' po
 lo décimo aniversario do Galician Film Forum\n\nhttps://emigracion.xunta.g
 al/actualidade/axenda/iii-letters-galicia-no-london-spanish-film-festival-
 polo-decimo-aniversario
DTSTART;TZID=Europe/Madrid:20250923T181500
DTEND;TZID=Europe/Madrid:20250924T221500
LAST-MODIFIED:20250917T111046Z
SUMMARY:III 'Letters from Galicia' no 'London Spanish Film Festival' polo d
 écimo aniversario do Galician Film Forum
URL;TYPE=URI:https://emigracion.xunta.gal/actualidade/axenda/iii-letters-ga
 licia-no-london-spanish-film-festival-polo-decimo-aniversario
END:VEVENT
END:VCALENDAR
