BEGIN:VCALENDAR
VERSION:2.0
PRODID:-//Date iCal//NONSGML kigkonsult.se iCalcreator 2.20.2//
METHOD:PUBLISH
X-WR-CALNAME;VALUE=TEXT:Axenda de Galica Aberta
BEGIN:VTIMEZONE
TZID:Europe/Madrid
BEGIN:STANDARD
DTSTART:20251026T030000
TZOFFSETFROM:+0200
TZOFFSETTO:+0100
TZNAME:CET
END:STANDARD
BEGIN:DAYLIGHT
DTSTART:20250330T020000
TZOFFSETFROM:+0100
TZOFFSETTO:+0200
RDATE:20260329T020000
TZNAME:CEST
END:DAYLIGHT
END:VTIMEZONE
BEGIN:VEVENT
UID:calendar.51890.field_inicio.0@emigracion.xunta.gal
DTSTAMP:20260420T150929Z
CREATED:20250910T142224Z
DESCRIPTION:Estrea da película española 'Antes de Nós'\, de Ángeles Huerta\
 , no Centro Cultural España Córdoba\, en Entre Ríos\, Arxentina\n\nhttps:/
 /emigracion.xunta.gal/actualidade/axenda/estrea-pelicula-espanola-nos-ange
 les-huerta-no-centro-cultural-espana-cordoba
DTSTART;TZID=Europe/Madrid:20250912T190000
DTEND;TZID=Europe/Madrid:20250912T190000
LAST-MODIFIED:20250910T143229Z
SUMMARY:Estrea da película española 'Antes de Nós'\, de Ángeles Huerta\, no
  Centro Cultural España Córdoba\, en Entre Ríos\, Arxentina
URL;TYPE=URI:https://emigracion.xunta.gal/actualidade/axenda/estrea-pelicul
 a-espanola-nos-angeles-huerta-no-centro-cultural-espana-cordoba
END:VEVENT
END:VCALENDAR
