BEGIN:VCALENDAR
VERSION:2.0
PRODID:-//Date iCal//NONSGML kigkonsult.se iCalcreator 2.20.2//
METHOD:PUBLISH
X-WR-CALNAME;VALUE=TEXT:Axenda de Galica Aberta
BEGIN:VTIMEZONE
TZID:Europe/Madrid
BEGIN:STANDARD
DTSTART:20251026T030000
TZOFFSETFROM:+0200
TZOFFSETTO:+0100
TZNAME:CET
END:STANDARD
BEGIN:DAYLIGHT
DTSTART:20250330T020000
TZOFFSETFROM:+0100
TZOFFSETTO:+0200
RDATE:20260329T020000
TZNAME:CEST
END:DAYLIGHT
END:VTIMEZONE
BEGIN:VEVENT
UID:calendar.51834.field_inicio.0@emigracion.xunta.gal
DTSTAMP:20260422T054945Z
CREATED:20250903T082631Z
DESCRIPTION:Cocido para celebrar o Día da Hispanidade no Centro Espanhol de
  Santos\, en Brasil\n\nhttps://emigracion.xunta.gal/actualidade/axenda/coc
 ido-celebrar-o-dia-hispanidade-no-centro-espanhol-santos-brasil
DTSTART;TZID=Europe/Madrid:20251019T130000
DTEND;TZID=Europe/Madrid:20251019T130000
LAST-MODIFIED:20250903T083001Z
SUMMARY:Cocido para celebrar o Día da Hispanidade no Centro Espanhol de San
 tos\, en Brasil
URL;TYPE=URI:https://emigracion.xunta.gal/actualidade/axenda/cocido-celebra
 r-o-dia-hispanidade-no-centro-espanhol-santos-brasil
END:VEVENT
END:VCALENDAR
