BEGIN:VCALENDAR
VERSION:2.0
PRODID:-//Date iCal//NONSGML kigkonsult.se iCalcreator 2.20.2//
METHOD:PUBLISH
X-WR-CALNAME;VALUE=TEXT:Axenda de Galica Aberta
BEGIN:VTIMEZONE
TZID:Europe/Madrid
BEGIN:STANDARD
DTSTART:20251026T030000
TZOFFSETFROM:+0200
TZOFFSETTO:+0100
TZNAME:CET
END:STANDARD
BEGIN:DAYLIGHT
DTSTART:20250330T020000
TZOFFSETFROM:+0100
TZOFFSETTO:+0200
RDATE:20260329T020000
TZNAME:CEST
END:DAYLIGHT
END:VTIMEZONE
BEGIN:VEVENT
UID:calendar.51832.field_inicio.0@emigracion.xunta.gal
DTSTAMP:20260422T113924Z
CREATED:20250902T154153Z
DESCRIPTION:Evento benéfico a favor da Casa de Galicia Las Palmas de Gran C
 anaria\n\nhttps://emigracion.xunta.gal/actualidade/axenda/evento-benefico-
 favor-casa-galicia-las-palmas-gran-canaria
DTSTART;TZID=Europe/Madrid:20250913T160000
DTEND;TZID=Europe/Madrid:20250913T160000
LAST-MODIFIED:20250902T154920Z
SUMMARY:Evento benéfico a favor da Casa de Galicia Las Palmas de Gran Canar
 ia
URL;TYPE=URI:https://emigracion.xunta.gal/actualidade/axenda/evento-benefic
 o-favor-casa-galicia-las-palmas-gran-canaria
END:VEVENT
END:VCALENDAR
