BEGIN:VCALENDAR
VERSION:2.0
PRODID:-//Date iCal//NONSGML kigkonsult.se iCalcreator 2.20.2//
METHOD:PUBLISH
X-WR-CALNAME;VALUE=TEXT:Axenda de Galica Aberta
BEGIN:VTIMEZONE
TZID:Europe/Madrid
BEGIN:STANDARD
DTSTART:20251026T030000
TZOFFSETFROM:+0200
TZOFFSETTO:+0100
TZNAME:CET
END:STANDARD
BEGIN:DAYLIGHT
DTSTART:20250330T020000
TZOFFSETFROM:+0100
TZOFFSETTO:+0200
RDATE:20260329T020000
TZNAME:CEST
END:DAYLIGHT
END:VTIMEZONE
BEGIN:VEVENT
UID:calendar.51819.field_inicio.0@emigracion.xunta.gal
DTSTAMP:20260422T113924Z
CREATED:20250901T141807Z
DESCRIPTION:Andaina xubilar do mes de setembro da Asociación Uruguaia Amigo
 s do Camiño de Santiago\n\nhttps://emigracion.xunta.gal/actualidade/axenda
 /andaina-xubilar-mes-setembro-asociacion-uruguaia-amigos-camino-santiago
DTSTART;TZID=Europe/Madrid:20250905T163000
DTEND;TZID=Europe/Madrid:20250905T163000
LAST-MODIFIED:20250901T142204Z
SUMMARY:Andaina xubilar do mes de setembro da Asociación Uruguaia Amigos do
  Camiño de Santiago
URL;TYPE=URI:https://emigracion.xunta.gal/actualidade/axenda/andaina-xubila
 r-mes-setembro-asociacion-uruguaia-amigos-camino-santiago
END:VEVENT
END:VCALENDAR
