BEGIN:VCALENDAR
VERSION:2.0
PRODID:-//Date iCal//NONSGML kigkonsult.se iCalcreator 2.20.2//
METHOD:PUBLISH
X-WR-CALNAME;VALUE=TEXT:Axenda de Galica Aberta
BEGIN:VTIMEZONE
TZID:Europe/Madrid
BEGIN:STANDARD
DTSTART:20251026T030000
TZOFFSETFROM:+0200
TZOFFSETTO:+0100
TZNAME:CET
END:STANDARD
BEGIN:DAYLIGHT
DTSTART:20250330T020000
TZOFFSETFROM:+0100
TZOFFSETTO:+0200
RDATE:20260329T020000
TZNAME:CEST
END:DAYLIGHT
END:VTIMEZONE
BEGIN:VEVENT
UID:calendar.51800.field_inicio.0@emigracion.xunta.gal
DTSTAMP:20260421T165430Z
CREATED:20250827T111455Z
DESCRIPTION:XLII Feira de Folclore e Gastronomía de Valladolid coa particip
 ación da Casa de Galicia en Valladolid\n\nhttps://emigracion.xunta.gal/act
 ualidade/axenda/xlii-feira-folclore-e-gastronomia-valladolid-coa-participa
 cion-casa-galicia
DTSTART;TZID=Europe/Madrid:20250906T133000
DTEND;TZID=Europe/Madrid:20250907T230000
LAST-MODIFIED:20250827T112346Z
SUMMARY:XLII Feira de Folclore e Gastronomía de Valladolid coa participació
 n da Casa de Galicia en Valladolid
URL;TYPE=URI:https://emigracion.xunta.gal/actualidade/axenda/xlii-feira-fol
 clore-e-gastronomia-valladolid-coa-participacion-casa-galicia
END:VEVENT
END:VCALENDAR
