BEGIN:VCALENDAR
VERSION:2.0
PRODID:-//Date iCal//NONSGML kigkonsult.se iCalcreator 2.20.2//
METHOD:PUBLISH
X-WR-CALNAME;VALUE=TEXT:Axenda de Galica Aberta
BEGIN:VTIMEZONE
TZID:Europe/Madrid
BEGIN:STANDARD
DTSTART:20251026T030000
TZOFFSETFROM:+0200
TZOFFSETTO:+0100
TZNAME:CET
END:STANDARD
BEGIN:DAYLIGHT
DTSTART:20250330T020000
TZOFFSETFROM:+0100
TZOFFSETTO:+0200
TZNAME:CEST
END:DAYLIGHT
END:VTIMEZONE
BEGIN:VEVENT
UID:calendar.51764.field_inicio.0@emigracion.xunta.gal
DTSTAMP:20260421T164700Z
CREATED:20250820T113618Z
DESCRIPTION:Celebración das festas do San Roque e Os Caneiros no Centro Bet
 anzos de Bos Aires\n\nhttps://emigracion.xunta.gal/actualidade/axenda/cele
 bracion-das-festas-san-roque-e-os-caneiros-no-centro-betanzos-bos-aires
DTSTART;TZID=Europe/Madrid:20250824T130000
DTEND;TZID=Europe/Madrid:20250824T130000
LAST-MODIFIED:20250820T113829Z
SUMMARY:Celebración das festas do San Roque e Os Caneiros no Centro Betanzo
 s de Bos Aires
URL;TYPE=URI:https://emigracion.xunta.gal/actualidade/axenda/celebracion-da
 s-festas-san-roque-e-os-caneiros-no-centro-betanzos-bos-aires
END:VEVENT
END:VCALENDAR
