BEGIN:VCALENDAR
VERSION:2.0
PRODID:-//Date iCal//NONSGML kigkonsult.se iCalcreator 2.20.2//
METHOD:PUBLISH
X-WR-CALNAME;VALUE=TEXT:Axenda de Galica Aberta
BEGIN:VTIMEZONE
TZID:Europe/Madrid
BEGIN:STANDARD
DTSTART:20251026T030000
TZOFFSETFROM:+0200
TZOFFSETTO:+0100
TZNAME:CET
END:STANDARD
BEGIN:DAYLIGHT
DTSTART:20250330T020000
TZOFFSETFROM:+0100
TZOFFSETTO:+0200
RDATE:20260329T020000
TZNAME:CEST
END:DAYLIGHT
END:VTIMEZONE
BEGIN:VEVENT
UID:calendar.51755.field_inicio.0@emigracion.xunta.gal
DTSTAMP:20260421T164659Z
CREATED:20250819T083655Z
DESCRIPTION:Noite de sopas\, organizada por Aires Galegos da Casa de Galici
 a de Curitiba\, no Centro Espanhol do Paraná\n\nhttps://emigracion.xunta.g
 al/actualidade/axenda/noite-sopas-organizada-aires-galegos-casa-galicia-cu
 ritiba-no-centro-espanhol
DTSTART;TZID=Europe/Madrid:20250830T200000
DTEND;TZID=Europe/Madrid:20250830T200000
LAST-MODIFIED:20250819T084106Z
SUMMARY:Noite de sopas\, organizada por Aires Galegos da Casa de Galicia de
  Curitiba\, no Centro Espanhol do Paraná
URL;TYPE=URI:https://emigracion.xunta.gal/actualidade/axenda/noite-sopas-or
 ganizada-aires-galegos-casa-galicia-curitiba-no-centro-espanhol
END:VEVENT
END:VCALENDAR
