BEGIN:VCALENDAR
VERSION:2.0
PRODID:-//Date iCal//NONSGML kigkonsult.se iCalcreator 2.20.2//
METHOD:PUBLISH
X-WR-CALNAME;VALUE=TEXT:Axenda de Galica Aberta
BEGIN:VTIMEZONE
TZID:Europe/Madrid
BEGIN:STANDARD
DTSTART:20251026T030000
TZOFFSETFROM:+0200
TZOFFSETTO:+0100
TZNAME:CET
END:STANDARD
BEGIN:DAYLIGHT
DTSTART:20250330T020000
TZOFFSETFROM:+0100
TZOFFSETTO:+0200
RDATE:20260329T020000
TZNAME:CEST
END:DAYLIGHT
END:VTIMEZONE
BEGIN:VEVENT
UID:calendar.51743.field_inicio.0@emigracion.xunta.gal
DTSTAMP:20260421T092849Z
CREATED:20250814T120339Z
DESCRIPTION:Celebración do Carme na Asociación Civil Galega Fillos do Porto
  do Son en Avellaneda\n\nhttps://emigracion.xunta.gal/actualidade/axenda/c
 elebracion-carme-na-asociacion-civil-galega-fillos-porto-son-avellaneda
DTSTART;TZID=Europe/Madrid:20250831T130000
DTEND;TZID=Europe/Madrid:20250831T130000
LAST-MODIFIED:20250814T121009Z
SUMMARY:Celebración do Carme na Asociación Civil Galega Fillos do Porto do 
 Son en Avellaneda
URL;TYPE=URI:https://emigracion.xunta.gal/actualidade/axenda/celebracion-ca
 rme-na-asociacion-civil-galega-fillos-porto-son-avellaneda
END:VEVENT
END:VCALENDAR
