BEGIN:VCALENDAR
VERSION:2.0
PRODID:-//Date iCal//NONSGML kigkonsult.se iCalcreator 2.20.2//
METHOD:PUBLISH
X-WR-CALNAME;VALUE=TEXT:Axenda de Galica Aberta
BEGIN:VTIMEZONE
TZID:Europe/Madrid
BEGIN:STANDARD
DTSTART:20251026T030000
TZOFFSETFROM:+0200
TZOFFSETTO:+0100
TZNAME:CET
END:STANDARD
BEGIN:DAYLIGHT
DTSTART:20250330T020000
TZOFFSETFROM:+0100
TZOFFSETTO:+0200
TZNAME:CEST
END:DAYLIGHT
END:VTIMEZONE
BEGIN:VEVENT
UID:calendar.51737.field_inicio.0@emigracion.xunta.gal
DTSTAMP:20260421T092851Z
CREATED:20250814T111054Z
DESCRIPTION:107 aniversario da Unión Hijos de Morgadanes de Galicia en Mont
 evideo\n\nhttps://emigracion.xunta.gal/actualidade/axenda/107-aniversario-
 union-hijos-morgadanes-galicia-montevideo
DTSTART;TZID=Europe/Madrid:20250817T130000
DTEND;TZID=Europe/Madrid:20250817T130000
LAST-MODIFIED:20250814T111350Z
SUMMARY:107 aniversario da Unión Hijos de Morgadanes de Galicia en Montevid
 eo
URL;TYPE=URI:https://emigracion.xunta.gal/actualidade/axenda/107-aniversari
 o-union-hijos-morgadanes-galicia-montevideo
END:VEVENT
END:VCALENDAR
