BEGIN:VCALENDAR
VERSION:2.0
PRODID:-//Date iCal//NONSGML kigkonsult.se iCalcreator 2.20.2//
METHOD:PUBLISH
X-WR-CALNAME;VALUE=TEXT:Axenda de Galica Aberta
BEGIN:VTIMEZONE
TZID:Europe/Madrid
BEGIN:STANDARD
DTSTART:20251026T030000
TZOFFSETFROM:+0200
TZOFFSETTO:+0100
TZNAME:CET
END:STANDARD
BEGIN:DAYLIGHT
DTSTART:20250330T020000
TZOFFSETFROM:+0100
TZOFFSETTO:+0200
RDATE:20260329T020000
TZNAME:CEST
END:DAYLIGHT
END:VTIMEZONE
BEGIN:VEVENT
UID:calendar.51731.field_inicio.0@emigracion.xunta.gal
DTSTAMP:20260421T092850Z
CREATED:20250813T101734Z
DESCRIPTION:Día de campo no Centro Galego de Xubilados e Pensionistas da Re
 pública Arxentina\n\nhttps://emigracion.xunta.gal/actualidade/axenda/dia-c
 ampo-no-centro-galego-xubilados-e-pensionistas-republica-arxentina
DTSTART;TZID=Europe/Madrid:20250914T100000
DTEND;TZID=Europe/Madrid:20250914T100000
LAST-MODIFIED:20250813T102756Z
SUMMARY:Día de campo no Centro Galego de Xubilados e Pensionistas da Repúbl
 ica Arxentina
URL;TYPE=URI:https://emigracion.xunta.gal/actualidade/axenda/dia-campo-no-c
 entro-galego-xubilados-e-pensionistas-republica-arxentina
END:VEVENT
END:VCALENDAR
