BEGIN:VCALENDAR
VERSION:2.0
PRODID:-//Date iCal//NONSGML kigkonsult.se iCalcreator 2.20.2//
METHOD:PUBLISH
X-WR-CALNAME;VALUE=TEXT:Axenda de Galica Aberta
BEGIN:VTIMEZONE
TZID:Europe/Madrid
BEGIN:STANDARD
DTSTART:20251026T030000
TZOFFSETFROM:+0200
TZOFFSETTO:+0100
TZNAME:CET
END:STANDARD
BEGIN:DAYLIGHT
DTSTART:20250330T020000
TZOFFSETFROM:+0100
TZOFFSETTO:+0200
TZNAME:CEST
END:DAYLIGHT
END:VTIMEZONE
BEGIN:VEVENT
UID:calendar.51722.field_inicio.0@emigracion.xunta.gal
DTSTAMP:20260422T200321Z
CREATED:20250812T121533Z
DESCRIPTION:Actuacións musicais dos grupos do Centro Cultural e Recreativo 
 Alma Galega\n\nhttps://emigracion.xunta.gal/actualidade/axenda/actuacions-
 musicais-dos-grupos-centro-cultural-e-recreativo-alma-galega
DTSTART;TZID=Europe/Madrid:20250816T130000
DTEND;TZID=Europe/Madrid:20250816T130000
LAST-MODIFIED:20250812T121942Z
SUMMARY:Actuacións musicais dos grupos do Centro Cultural e Recreativo Alma
  Galega
URL;TYPE=URI:https://emigracion.xunta.gal/actualidade/axenda/actuacions-mus
 icais-dos-grupos-centro-cultural-e-recreativo-alma-galega
END:VEVENT
END:VCALENDAR
