BEGIN:VCALENDAR
VERSION:2.0
PRODID:-//Date iCal//NONSGML kigkonsult.se iCalcreator 2.20.2//
METHOD:PUBLISH
X-WR-CALNAME;VALUE=TEXT:Axenda de Galica Aberta
BEGIN:VTIMEZONE
TZID:Europe/Madrid
BEGIN:STANDARD
DTSTART:20251026T030000
TZOFFSETFROM:+0200
TZOFFSETTO:+0100
TZNAME:CET
END:STANDARD
BEGIN:DAYLIGHT
DTSTART:20250330T020000
TZOFFSETFROM:+0100
TZOFFSETTO:+0200
RDATE:20260329T020000
TZNAME:CEST
END:DAYLIGHT
END:VTIMEZONE
BEGIN:VEVENT
UID:calendar.51713.field_inicio.0@emigracion.xunta.gal
DTSTAMP:20260423T182742Z
CREATED:20250811T111354Z
DESCRIPTION:XII Festa da Cervexa no Centro Arzuán Melidense de Bos Aires\n
 \nhttps://emigracion.xunta.gal/actualidade/axenda/xii-festa-cervexa-no-cen
 tro-arzuan-melidense-bos-aires
DTSTART;TZID=Europe/Madrid:20250906T210000
DTEND;TZID=Europe/Madrid:20250906T210000
LAST-MODIFIED:20250811T111629Z
SUMMARY:XII Festa da Cervexa no Centro Arzuán Melidense de Bos Aires
URL;TYPE=URI:https://emigracion.xunta.gal/actualidade/axenda/xii-festa-cerv
 exa-no-centro-arzuan-melidense-bos-aires
END:VEVENT
END:VCALENDAR
