BEGIN:VCALENDAR
VERSION:2.0
PRODID:-//Date iCal//NONSGML kigkonsult.se iCalcreator 2.20.2//
METHOD:PUBLISH
X-WR-CALNAME;VALUE=TEXT:Axenda de Galica Aberta
BEGIN:VTIMEZONE
TZID:Europe/Madrid
BEGIN:STANDARD
DTSTART:20251026T030000
TZOFFSETFROM:+0200
TZOFFSETTO:+0100
TZNAME:CET
END:STANDARD
BEGIN:DAYLIGHT
DTSTART:20250330T020000
TZOFFSETFROM:+0100
TZOFFSETTO:+0200
TZNAME:CEST
END:DAYLIGHT
END:VTIMEZONE
BEGIN:VEVENT
UID:calendar.51709.field_inicio.0@emigracion.xunta.gal
DTSTAMP:20260422T200118Z
CREATED:20250811T104930Z
DESCRIPTION:4ª edición da Cea-Show Patio Español no Centro Cultural do Part
 ido da Estrada\n\nhttps://emigracion.xunta.gal/actualidade/axenda/4a-edici
 on-cea-show-patio-espanol-no-centro-cultural-partido-estrada
DTSTART;TZID=Europe/Madrid:20250823T200000
DTEND;TZID=Europe/Madrid:20250823T200000
LAST-MODIFIED:20250811T105156Z
SUMMARY:4ª edición da Cea-Show Patio Español no Centro Cultural do Partido 
 da Estrada
URL;TYPE=URI:https://emigracion.xunta.gal/actualidade/axenda/4a-edicion-cea
 -show-patio-espanol-no-centro-cultural-partido-estrada
END:VEVENT
END:VCALENDAR
