BEGIN:VCALENDAR
VERSION:2.0
PRODID:-//Date iCal//NONSGML kigkonsult.se iCalcreator 2.20.2//
METHOD:PUBLISH
X-WR-CALNAME;VALUE=TEXT:Axenda de Galica Aberta
BEGIN:VTIMEZONE
TZID:Europe/Madrid
BEGIN:STANDARD
DTSTART:20251026T030000
TZOFFSETFROM:+0200
TZOFFSETTO:+0100
TZNAME:CET
END:STANDARD
BEGIN:DAYLIGHT
DTSTART:20250330T020000
TZOFFSETFROM:+0100
TZOFFSETTO:+0200
TZNAME:CEST
END:DAYLIGHT
END:VTIMEZONE
BEGIN:VEVENT
UID:calendar.51696.field_inicio.0@emigracion.xunta.gal
DTSTAMP:20260423T182811Z
CREATED:20250806T073256Z
DESCRIPTION:Proxección do documental 'Castelao (Biografía dun ilustre galeg
 o)' no Centro Betanzos de Bos Aires\n\nhttps://emigracion.xunta.gal/actual
 idade/axenda/proxeccion-documental-castelao-biografia-dun-ilustre-galego-n
 o-centro-betanzos
DTSTART;TZID=Europe/Madrid:20250809T180000
DTEND;TZID=Europe/Madrid:20250809T180000
LAST-MODIFIED:20250806T073538Z
SUMMARY:Proxección do documental 'Castelao (Biografía dun ilustre galego)' 
 no Centro Betanzos de Bos Aires
URL;TYPE=URI:https://emigracion.xunta.gal/actualidade/axenda/proxeccion-doc
 umental-castelao-biografia-dun-ilustre-galego-no-centro-betanzos
END:VEVENT
END:VCALENDAR
