BEGIN:VCALENDAR
VERSION:2.0
PRODID:-//Date iCal//NONSGML kigkonsult.se iCalcreator 2.20.2//
METHOD:PUBLISH
X-WR-CALNAME;VALUE=TEXT:Axenda de Galica Aberta
BEGIN:VTIMEZONE
TZID:Europe/Madrid
BEGIN:STANDARD
DTSTART:20251026T030000
TZOFFSETFROM:+0200
TZOFFSETTO:+0100
TZNAME:CET
END:STANDARD
BEGIN:DAYLIGHT
DTSTART:20250330T020000
TZOFFSETFROM:+0100
TZOFFSETTO:+0200
TZNAME:CEST
END:DAYLIGHT
END:VTIMEZONE
BEGIN:VEVENT
UID:calendar.51659.field_inicio.0@emigracion.xunta.gal
DTSTAMP:20260423T132135Z
CREATED:20250728T111908Z
DESCRIPTION:Xornada de formación e orientación ao retornado da Federación V
 enezolana de Galicia\n\nhttps://emigracion.xunta.gal/actualidade/axenda/xo
 rnada-formacion-e-orientacion-ao-retornado-federacion-venezolana-galicia
DTSTART;TZID=Europe/Madrid:20250729T200000
DTEND;TZID=Europe/Madrid:20250729T200000
LAST-MODIFIED:20250728T112222Z
SUMMARY:Xornada de formación e orientación ao retornado da Federación Venez
 olana de Galicia
URL;TYPE=URI:https://emigracion.xunta.gal/actualidade/axenda/xornada-formac
 ion-e-orientacion-ao-retornado-federacion-venezolana-galicia
END:VEVENT
END:VCALENDAR
