BEGIN:VCALENDAR
VERSION:2.0
PRODID:-//Date iCal//NONSGML kigkonsult.se iCalcreator 2.20.2//
METHOD:PUBLISH
X-WR-CALNAME;VALUE=TEXT:Axenda de Galica Aberta
BEGIN:VTIMEZONE
TZID:Europe/Madrid
BEGIN:STANDARD
DTSTART:20251026T030000
TZOFFSETFROM:+0200
TZOFFSETTO:+0100
TZNAME:CET
END:STANDARD
BEGIN:DAYLIGHT
DTSTART:20250330T020000
TZOFFSETFROM:+0100
TZOFFSETTO:+0200
TZNAME:CEST
END:DAYLIGHT
END:VTIMEZONE
BEGIN:VEVENT
UID:calendar.51657.field_inicio.0@emigracion.xunta.gal
DTSTAMP:20260423T132134Z
CREATED:20250728T105811Z
DESCRIPTION:'A noite de Antonio López Ferreiro' na Sociedade Parroquial de 
 Vedra en Bos Aires\n\nhttps://emigracion.xunta.gal/actualidade/axenda/noit
 e-antonio-lopez-ferreiro-na-sociedade-parroquial-vedra-bos-aires
DTSTART;TZID=Europe/Madrid:20250809T180000
DTEND;TZID=Europe/Madrid:20250809T180000
LAST-MODIFIED:20250728T110132Z
SUMMARY:'A noite de Antonio López Ferreiro' na Sociedade Parroquial de Vedr
 a en Bos Aires
URL;TYPE=URI:https://emigracion.xunta.gal/actualidade/axenda/noite-antonio-
 lopez-ferreiro-na-sociedade-parroquial-vedra-bos-aires
END:VEVENT
END:VCALENDAR
