BEGIN:VCALENDAR
VERSION:2.0
PRODID:-//Date iCal//NONSGML kigkonsult.se iCalcreator 2.20.2//
METHOD:PUBLISH
X-WR-CALNAME;VALUE=TEXT:Axenda de Galica Aberta
BEGIN:VTIMEZONE
TZID:Europe/Madrid
BEGIN:STANDARD
DTSTART:20251026T030000
TZOFFSETFROM:+0200
TZOFFSETTO:+0100
TZNAME:CET
END:STANDARD
BEGIN:DAYLIGHT
DTSTART:20250330T020000
TZOFFSETFROM:+0100
TZOFFSETTO:+0200
TZNAME:CEST
END:DAYLIGHT
END:VTIMEZONE
BEGIN:VEVENT
UID:calendar.51618.field_inicio.0@emigracion.xunta.gal
DTSTAMP:20260423T182806Z
CREATED:20250716T121904Z
DESCRIPTION:Gran xantar anual 102 aniversario do Centro Galego de SM de Com
 odoro Rivadavia\n\nhttps://emigracion.xunta.gal/actualidade/axenda/gran-xa
 ntar-anual-102-aniversario-centro-galego-sm-comodoro-rivadavia
DTSTART;TZID=Europe/Madrid:20250803T130000
DTEND;TZID=Europe/Madrid:20250803T130000
LAST-MODIFIED:20250716T122431Z
SUMMARY:Gran xantar anual 102 aniversario do Centro Galego de SM de Comodor
 o Rivadavia
URL;TYPE=URI:https://emigracion.xunta.gal/actualidade/axenda/gran-xantar-an
 ual-102-aniversario-centro-galego-sm-comodoro-rivadavia
END:VEVENT
END:VCALENDAR
