BEGIN:VCALENDAR
VERSION:2.0
PRODID:-//Date iCal//NONSGML kigkonsult.se iCalcreator 2.20.2//
METHOD:PUBLISH
X-WR-CALNAME;VALUE=TEXT:Axenda de Galica Aberta
BEGIN:VTIMEZONE
TZID:Europe/Madrid
BEGIN:STANDARD
DTSTART:20231029T030000
TZOFFSETFROM:+0200
TZOFFSETTO:+0100
RDATE:20241027T030000
TZNAME:CET
END:STANDARD
BEGIN:DAYLIGHT
DTSTART:20240331T020000
TZOFFSETFROM:+0100
TZOFFSETTO:+0200
TZNAME:CEST
END:DAYLIGHT
END:VTIMEZONE
BEGIN:VEVENT
UID:calendar.49065.field_inicio.0@emigracion.xunta.gal
DTSTAMP:20260419T131634Z
CREATED:20240411T064933Z
DESCRIPTION:Oficina itinerante da Asociación de Pensionados y Jubilados de 
 Venezuela en Galicia - APEJUVEG\, en Cambre\n\nhttps://emigracion.xunta.ga
 l/actualidade/axenda/oficina-itinerante-asociacion-pensionados-y-jubilados
 -venezuela-galicia-apejuve-9
DTSTART;TZID=Europe/Madrid:20240420T100000
DTEND;TZID=Europe/Madrid:20240420T100000
LAST-MODIFIED:20240411T065221Z
SUMMARY:Oficina itinerante da Asociación de Pensionados y Jubilados de Vene
 zuela en Galicia - APEJUVEG\, en Cambre
URL;TYPE=URI:https://emigracion.xunta.gal/actualidade/axenda/oficina-itiner
 ante-asociacion-pensionados-y-jubilados-venezuela-galicia-apejuve-9
END:VEVENT
END:VCALENDAR
