BEGIN:VCALENDAR
VERSION:2.0
PRODID:-//Date iCal//NONSGML kigkonsult.se iCalcreator 2.20.2//
METHOD:PUBLISH
X-WR-CALNAME;VALUE=TEXT:Axenda de Galica Aberta
BEGIN:VTIMEZONE
TZID:Europe/Madrid
BEGIN:STANDARD
DTSTART:20221030T030000
TZOFFSETFROM:+0200
TZOFFSETTO:+0100
RDATE:20231029T030000
TZNAME:CET
END:STANDARD
BEGIN:DAYLIGHT
DTSTART:20230326T020000
TZOFFSETFROM:+0100
TZOFFSETTO:+0200
TZNAME:CEST
END:DAYLIGHT
END:VTIMEZONE
BEGIN:VEVENT
UID:calendar.46424.field_inicio.0@emigracion.xunta.gal
DTSTAMP:20260419T185317Z
CREATED:20230425T074215Z
DESCRIPTION:Festa Cultural e Gastronómica 2023 - 40º Aniversario do Centro 
 Cultural 'Airiños da Nosa Galicia' de Santa Coloma de Gramenet\n\nhttps://
 emigracion.xunta.gal/actualidade/axenda/festa-cultural-e-gastronomica-2023
 -40o-aniversario-centro-cultural-airinos-nosa
DTSTART;TZID=Europe/Madrid:20230505T120000
DTEND;TZID=Europe/Madrid:20230507T120000
LAST-MODIFIED:20230504T063931Z
SUMMARY:Festa Cultural e Gastronómica 2023 - 40º Aniversario do Centro Cult
 ural 'Airiños da Nosa Galicia' de Santa Coloma de Gramenet
URL;TYPE=URI:https://emigracion.xunta.gal/actualidade/axenda/festa-cultural
 -e-gastronomica-2023-40o-aniversario-centro-cultural-airinos-nosa
END:VEVENT
END:VCALENDAR
