BEGIN:VCALENDAR
VERSION:2.0
PRODID:-//Date iCal//NONSGML kigkonsult.se iCalcreator 2.20.2//
METHOD:PUBLISH
X-WR-CALNAME;VALUE=TEXT:Axenda de Galica Aberta
BEGIN:VTIMEZONE
TZID:Europe/Madrid
BEGIN:STANDARD
DTSTART:20221030T030000
TZOFFSETFROM:+0200
TZOFFSETTO:+0100
TZNAME:CET
END:STANDARD
BEGIN:DAYLIGHT
DTSTART:20230326T020000
TZOFFSETFROM:+0100
TZOFFSETTO:+0200
TZNAME:CEST
END:DAYLIGHT
END:VTIMEZONE
BEGIN:VEVENT
UID:calendar.46078.field_inicio.0@emigracion.xunta.gal
DTSTAMP:20260421T164658Z
CREATED:20230307T081350Z
DESCRIPTION:Oficina itinerante da Asociación de Pensionados y Jubilados de 
 Venezuela en Galicia - APEJUVEG\, en Sada\n\nhttps://emigracion.xunta.gal/
 actualidade/axenda/oficina-itinerante-asociacion-pensionados-y-jubilados-v
 enezuela-galicia-apejuve-1
DTSTART;TZID=Europe/Madrid:20230311T100000
DTEND;TZID=Europe/Madrid:20230311T100000
LAST-MODIFIED:20230307T081722Z
SUMMARY:Oficina itinerante da Asociación de Pensionados y Jubilados de Vene
 zuela en Galicia - APEJUVEG\, en Sada
URL;TYPE=URI:https://emigracion.xunta.gal/actualidade/axenda/oficina-itiner
 ante-asociacion-pensionados-y-jubilados-venezuela-galicia-apejuve-1
END:VEVENT
END:VCALENDAR
