BEGIN:VCALENDAR
VERSION:2.0
PRODID:-//Date iCal//NONSGML kigkonsult.se iCalcreator 2.20.2//
METHOD:PUBLISH
X-WR-CALNAME;VALUE=TEXT:Axenda de Galica Aberta
BEGIN:VTIMEZONE
TZID:Europe/Madrid
BEGIN:STANDARD
DTSTART:20221030T030000
TZOFFSETFROM:+0200
TZOFFSETTO:+0100
TZNAME:CET
END:STANDARD
BEGIN:DAYLIGHT
DTSTART:20230326T020000
TZOFFSETFROM:+0100
TZOFFSETTO:+0200
TZNAME:CEST
END:DAYLIGHT
END:VTIMEZONE
BEGIN:VEVENT
UID:calendar.46002.field_inicio.0@emigracion.xunta.gal
DTSTAMP:20260419T185317Z
CREATED:20230224T111444Z
DESCRIPTION:Presentación da Estratexia Galicia Retorna 2023-2026 en Frankfu
 rt\n\nhttps://emigracion.xunta.gal/actualidade/axenda/presentacion-estrate
 xia-galicia-retorna-2023-2026-frankfurt
DTSTART;TZID=Europe/Madrid:20230303T180000
DTEND;TZID=Europe/Madrid:20230303T180000
LAST-MODIFIED:20230224T134654Z
SUMMARY:Presentación da Estratexia Galicia Retorna 2023-2026 en Frankfurt
URL;TYPE=URI:https://emigracion.xunta.gal/actualidade/axenda/presentacion-e
 stratexia-galicia-retorna-2023-2026-frankfurt
END:VEVENT
END:VCALENDAR
