BEGIN:VCALENDAR
VERSION:2.0
PRODID:-//Date iCal//NONSGML kigkonsult.se iCalcreator 2.20.2//
METHOD:PUBLISH
X-WR-CALNAME;VALUE=TEXT:Axenda de Galica Aberta
BEGIN:VTIMEZONE
TZID:Europe/Madrid
BEGIN:STANDARD
DTSTART:20221030T030000
TZOFFSETFROM:+0200
TZOFFSETTO:+0100
TZNAME:CET
END:STANDARD
BEGIN:DAYLIGHT
DTSTART:20230326T020000
TZOFFSETFROM:+0100
TZOFFSETTO:+0200
TZNAME:CEST
END:DAYLIGHT
END:VTIMEZONE
BEGIN:VEVENT
UID:calendar.45956.field_inicio.0@emigracion.xunta.gal
DTSTAMP:20260421T164658Z
CREATED:20230220T105140Z
DESCRIPTION:Oficina itinerante da Asociación de Pensionados y Jubilados de 
 Venezuela en Galicia - APEJUVEG\, en Ferrol\n\nhttps://emigracion.xunta.ga
 l/actualidade/axenda/oficina-itinerante-asociacion-pensionados-y-jubilados
 -venezuela-galicia-apejuve-0
DTSTART;TZID=Europe/Madrid:20230304T103000
DTEND;TZID=Europe/Madrid:20230304T103000
LAST-MODIFIED:20230221T065620Z
SUMMARY:Oficina itinerante da Asociación de Pensionados y Jubilados de Vene
 zuela en Galicia - APEJUVEG\, en Ferrol
URL;TYPE=URI:https://emigracion.xunta.gal/actualidade/axenda/oficina-itiner
 ante-asociacion-pensionados-y-jubilados-venezuela-galicia-apejuve-0
END:VEVENT
END:VCALENDAR
