BEGIN:VCALENDAR
VERSION:2.0
PRODID:-//Date iCal//NONSGML kigkonsult.se iCalcreator 2.20.2//
METHOD:PUBLISH
X-WR-CALNAME;VALUE=TEXT:Axenda de Galica Aberta
BEGIN:VTIMEZONE
TZID:Europe/Madrid
BEGIN:STANDARD
DTSTART:20221030T030000
TZOFFSETFROM:+0200
TZOFFSETTO:+0100
TZNAME:CET
END:STANDARD
BEGIN:DAYLIGHT
DTSTART:20220327T020000
TZOFFSETFROM:+0100
TZOFFSETTO:+0200
TZNAME:CEST
END:DAYLIGHT
END:VTIMEZONE
BEGIN:VEVENT
UID:calendar.44398.field_inicio.0@emigracion.xunta.gal
DTSTAMP:20260419T205112Z
CREATED:20220629T060117Z
DESCRIPTION:Misa de Santiago Apóstolo 2022\, en Santos\n\nhttps://emigracio
 n.xunta.gal/actualidade/axenda/misa-santiago-apostolo-2022-santos
DTSTART;TZID=Europe/Madrid:20220724T110000
DTEND;TZID=Europe/Madrid:20220724T110000
LAST-MODIFIED:20220629T074702Z
SUMMARY:Misa de Santiago Apóstolo 2022\, en Santos
URL;TYPE=URI:https://emigracion.xunta.gal/actualidade/axenda/misa-santiago-
 apostolo-2022-santos
END:VEVENT
END:VCALENDAR
