BEGIN:VCALENDAR
VERSION:2.0
PRODID:-//Date iCal//NONSGML kigkonsult.se iCalcreator 2.20.2//
METHOD:PUBLISH
X-WR-CALNAME;VALUE=TEXT:Axenda de Galica Aberta
BEGIN:VTIMEZONE
TZID:Europe/Madrid
BEGIN:STANDARD
DTSTART:20211031T030000
TZOFFSETFROM:+0200
TZOFFSETTO:+0100
TZNAME:CET
END:STANDARD
BEGIN:DAYLIGHT
DTSTART:20210328T020000
TZOFFSETFROM:+0100
TZOFFSETTO:+0200
TZNAME:CEST
END:DAYLIGHT
END:VTIMEZONE
BEGIN:VEVENT
UID:calendar.42051.field_inicio.0@emigracion.xunta.gal
DTSTAMP:20260421T091001Z
CREATED:20210525T062152Z
DESCRIPTION:Recollida de alimentos solidaria no Centro Orensano de Nova Jer
 sey\n\nhttps://emigracion.xunta.gal/actualidade/axenda/recollida-alimentos
 -solidaria-no-centro-orensano-nova-jersey
DTSTART;TZID=Europe/Madrid:20210605T100000
DTEND;TZID=Europe/Madrid:20210605T100000
LAST-MODIFIED:20210525T062646Z
SUMMARY:Recollida de alimentos solidaria no Centro Orensano de Nova Jersey
URL;TYPE=URI:https://emigracion.xunta.gal/actualidade/axenda/recollida-alim
 entos-solidaria-no-centro-orensano-nova-jersey
END:VEVENT
END:VCALENDAR
