BEGIN:VCALENDAR
VERSION:2.0
PRODID:-//Date iCal//NONSGML kigkonsult.se iCalcreator 2.20.2//
METHOD:PUBLISH
X-WR-CALNAME;VALUE=TEXT:Axenda de Galica Aberta
BEGIN:VTIMEZONE
TZID:Europe/Madrid
BEGIN:STANDARD
DTSTART:20191027T030000
TZOFFSETFROM:+0200
TZOFFSETTO:+0100
TZNAME:CET
END:STANDARD
BEGIN:DAYLIGHT
DTSTART:20190331T020000
TZOFFSETFROM:+0100
TZOFFSETTO:+0200
TZNAME:CEST
END:DAYLIGHT
END:VTIMEZONE
BEGIN:VEVENT
UID:calendar.38783.field_inicio.0@emigracion.xunta.gal
DTSTAMP:20260420T095136Z
CREATED:20190801T084105Z
DESCRIPTION:Plan Vacacional 2019 - Campamento de fútbol\, no Centro Galego 
 de Maracaibo\n\nhttps://emigracion.xunta.gal/actualidade/axenda/plan-vacac
 ional-2019-campamento-futbol-no-centro-galego-maracaibo
DTSTART;TZID=Europe/Madrid:20190805T140000
DTEND;TZID=Europe/Madrid:20190805T140000
LAST-MODIFIED:20190801T111500Z
SUMMARY:Plan Vacacional 2019 - Campamento de fútbol\, no Centro Galego de M
 aracaibo
URL;TYPE=URI:https://emigracion.xunta.gal/actualidade/axenda/plan-vacaciona
 l-2019-campamento-futbol-no-centro-galego-maracaibo
END:VEVENT
END:VCALENDAR
